BEGIN:VCALENDAR
VERSION:2.0
PRODID:-//Rotherham Scouts - ECPv6.15.16//NONSGML v1.0//EN
CALSCALE:GREGORIAN
METHOD:PUBLISH
X-WR-CALNAME:Rotherham Scouts
X-ORIGINAL-URL:https://rotherhamscouts.org
X-WR-CALDESC:Events for Rotherham Scouts
REFRESH-INTERVAL;VALUE=DURATION:PT1H
X-Robots-Tag:noindex
X-PUBLISHED-TTL:PT1H
BEGIN:VTIMEZONE
TZID:Europe/London
BEGIN:DAYLIGHT
TZOFFSETFROM:+0000
TZOFFSETTO:+0100
TZNAME:BST
DTSTART:20240331T010000
END:DAYLIGHT
BEGIN:STANDARD
TZOFFSETFROM:+0100
TZOFFSETTO:+0000
TZNAME:GMT
DTSTART:20241027T010000
END:STANDARD
BEGIN:DAYLIGHT
TZOFFSETFROM:+0000
TZOFFSETTO:+0100
TZNAME:BST
DTSTART:20250330T010000
END:DAYLIGHT
BEGIN:STANDARD
TZOFFSETFROM:+0100
TZOFFSETTO:+0000
TZNAME:GMT
DTSTART:20251026T010000
END:STANDARD
BEGIN:DAYLIGHT
TZOFFSETFROM:+0000
TZOFFSETTO:+0100
TZNAME:BST
DTSTART:20260329T010000
END:DAYLIGHT
BEGIN:STANDARD
TZOFFSETFROM:+0100
TZOFFSETTO:+0000
TZNAME:GMT
DTSTART:20261025T010000
END:STANDARD
BEGIN:DAYLIGHT
TZOFFSETFROM:+0000
TZOFFSETTO:+0100
TZNAME:BST
DTSTART:20270328T010000
END:DAYLIGHT
BEGIN:STANDARD
TZOFFSETFROM:+0100
TZOFFSETTO:+0000
TZNAME:GMT
DTSTART:20271031T010000
END:STANDARD
END:VTIMEZONE
BEGIN:VEVENT
DTSTART;TZID=Europe/London:20260418T080000
DTEND;TZID=Europe/London:20260418T170000
DTSTAMP:20260425T185834
CREATED:20251130T204914Z
LAST-MODIFIED:20251213T202447Z
UID:14272-1776499200-1776531600@rotherhamscouts.org
SUMMARY:St George’s Day Event
DESCRIPTION:18th April 2026 \nat Hensley Wood \nA chance for all groups in the district to get together bad celebrate St George’s Day and to remember why we are all part of scouting \nCost £18 covering day visit & lunch
URL:https://rotherhamscouts.org/event/st-georges-day-event/
LOCATION:Hesley Wood Scout Activity Centre\, White Lane\, Chapeltown\, Sheffield\, S35 2YH\, United Kingdom
CATEGORIES:All sections
END:VEVENT
BEGIN:VEVENT
DTSTART;TZID=Europe/London:20260322T190000
DTEND;TZID=Europe/London:20260322T210000
DTSTAMP:20260425T185834
CREATED:20251129T233302Z
LAST-MODIFIED:20251129T233302Z
UID:14129-1774206000-1774213200@rotherhamscouts.org
SUMMARY:Chief Scout Award Evening
DESCRIPTION:
URL:https://rotherhamscouts.org/event/chief-scout-award-evening/
LOCATION:Rotherham United FC’s stadium\, AESSEAL New York Stadium\, New York Way\, Rotherham\, S60 1AH\, United Kingdom
CATEGORIES:Chief Scout Award Evening
END:VEVENT
BEGIN:VEVENT
DTSTART;TZID=Europe/London:20260308T190000
DTEND;TZID=Europe/London:20260308T210000
DTSTAMP:20260425T185834
CREATED:20251130T205917Z
LAST-MODIFIED:20251130T205917Z
UID:14279-1772996400-1773003600@rotherhamscouts.org
SUMMARY:Trustees Meeting
DESCRIPTION:
URL:https://rotherhamscouts.org/event/trustees-meeting-2/
LOCATION:Broxholme\, Grove Road\, Rotherham\, S60 2ER\, United Kingdom
CATEGORIES:Trustees
END:VEVENT
BEGIN:VEVENT
DTSTART;TZID=Europe/London:20260304T190000
DTEND;TZID=Europe/London:20260304T210000
DTSTAMP:20260425T185834
CREATED:20251129T231623Z
LAST-MODIFIED:20251129T231712Z
UID:14121-1772650800-1772658000@rotherhamscouts.org
SUMMARY:Full District Meeting
DESCRIPTION:
URL:https://rotherhamscouts.org/event/full-district-meeting/
LOCATION:Broxholme\, Grove Road\, Rotherham\, S60 2ER\, United Kingdom
CATEGORIES:Full District Meeting
END:VEVENT
BEGIN:VEVENT
DTSTART;TZID=Europe/London:20260228T090000
DTEND;TZID=Europe/London:20260228T160000
DTSTAMP:20260425T185834
CREATED:20251130T203809Z
LAST-MODIFIED:20251130T204649Z
UID:14264-1772269200-1772294400@rotherhamscouts.org
SUMMARY:Leaders Skills day
DESCRIPTION:🫵 Have you booked your place at the Leaders Skills Day 2026 🫵 \nTake a look at some of the workshops we have planned: \n🧑‍🍳🔥🍳 Backwards Cooking\n🔥🔥🔥 Fire Lighting\n🔪🪓🪚 Knife\, Axe & Saws\n🪢🧶 Knots & Pioneering\n👷‍♀️📋 Risk Assessments & Safe Scouting\n➕➕➕ Many more!! \nGet a chance to meet some of the District team and don’t forget the complementary buffet lunch & refreshments? 🥪🌯☕️ \n✍️ Register here – https://forms.office.com/e/eKJVwhD46m
URL:https://rotherhamscouts.org/event/leaders-skills-day/
LOCATION:Hesley Wood Scout Activity Centre\, White Lane\, Chapeltown\, Sheffield\, S35 2YH\, United Kingdom
CATEGORIES:Leaders
END:VEVENT
BEGIN:VEVENT
DTSTART;TZID=Europe/London:20260118T190000
DTEND;TZID=Europe/London:20260118T210000
DTSTAMP:20260425T185834
CREATED:20251130T205716Z
LAST-MODIFIED:20251130T205716Z
UID:14276-1768762800-1768770000@rotherhamscouts.org
SUMMARY:Trustees Meeting
DESCRIPTION:
URL:https://rotherhamscouts.org/event/trustees-meeting/
LOCATION:Broxholme\, Grove Road\, Rotherham\, S60 2ER\, United Kingdom
CATEGORIES:Trustees
END:VEVENT
BEGIN:VEVENT
DTSTART;TZID=Europe/London:20260113T190000
DTEND;TZID=Europe/London:20260113T210000
DTSTAMP:20260425T185834
CREATED:20251130T210843Z
LAST-MODIFIED:20251130T210843Z
UID:14285-1768330800-1768338000@rotherhamscouts.org
SUMMARY:Group Lead Volunteer Meeting
DESCRIPTION:
URL:https://rotherhamscouts.org/event/group-lead-volunteer-meeting/
LOCATION:Broxholme\, Grove Road\, Rotherham\, S60 2ER\, United Kingdom
CATEGORIES:Group Lead Volunteers
END:VEVENT
BEGIN:VEVENT
DTSTART;TZID=Europe/London:20251004T190000
DTEND;TZID=Europe/London:20251004T210000
DTSTAMP:20260425T185834
CREATED:20251129T231838Z
LAST-MODIFIED:20251129T231857Z
UID:14124-1759604400-1759611600@rotherhamscouts.org
SUMMARY:Full District Meeting
DESCRIPTION:
URL:https://rotherhamscouts.org/event/full-district-meeting-2/
LOCATION:Broxholme\, Grove Road\, Rotherham\, S60 2ER\, United Kingdom
CATEGORIES:Full District Meeting
END:VEVENT
END:VCALENDAR