BEGIN:VCALENDAR
VERSION:2.0
PRODID:-//Rotherham Scouts - ECPv6.15.16//NONSGML v1.0//EN
CALSCALE:GREGORIAN
METHOD:PUBLISH
X-ORIGINAL-URL:https://rotherhamscouts.org
X-WR-CALDESC:Events for Rotherham Scouts
REFRESH-INTERVAL;VALUE=DURATION:PT1H
X-Robots-Tag:noindex
X-PUBLISHED-TTL:PT1H
BEGIN:VTIMEZONE
TZID:Europe/London
BEGIN:DAYLIGHT
TZOFFSETFROM:+0000
TZOFFSETTO:+0100
TZNAME:BST
DTSTART:20250330T010000
END:DAYLIGHT
BEGIN:STANDARD
TZOFFSETFROM:+0100
TZOFFSETTO:+0000
TZNAME:GMT
DTSTART:20251026T010000
END:STANDARD
BEGIN:DAYLIGHT
TZOFFSETFROM:+0000
TZOFFSETTO:+0100
TZNAME:BST
DTSTART:20260329T010000
END:DAYLIGHT
BEGIN:STANDARD
TZOFFSETFROM:+0100
TZOFFSETTO:+0000
TZNAME:GMT
DTSTART:20261025T010000
END:STANDARD
BEGIN:DAYLIGHT
TZOFFSETFROM:+0000
TZOFFSETTO:+0100
TZNAME:BST
DTSTART:20270328T010000
END:DAYLIGHT
BEGIN:STANDARD
TZOFFSETFROM:+0100
TZOFFSETTO:+0000
TZNAME:GMT
DTSTART:20271031T010000
END:STANDARD
END:VTIMEZONE
BEGIN:VEVENT
DTSTART;TZID=Europe/London:20260304T190000
DTEND;TZID=Europe/London:20260304T210000
DTSTAMP:20260425T144601
CREATED:20251129T231623Z
LAST-MODIFIED:20251129T231712Z
UID:14121-1772650800-1772658000@rotherhamscouts.org
SUMMARY:Full District Meeting
DESCRIPTION:
URL:https://rotherhamscouts.org/event/full-district-meeting/
LOCATION:Broxholme\, Grove Road\, Rotherham\, S60 2ER\, United Kingdom
CATEGORIES:Full District Meeting
END:VEVENT
BEGIN:VEVENT
DTSTART;TZID=Europe/London:20260308T190000
DTEND;TZID=Europe/London:20260308T210000
DTSTAMP:20260425T144601
CREATED:20251130T205917Z
LAST-MODIFIED:20251130T205917Z
UID:14279-1772996400-1773003600@rotherhamscouts.org
SUMMARY:Trustees Meeting
DESCRIPTION:
URL:https://rotherhamscouts.org/event/trustees-meeting-2/
LOCATION:Broxholme\, Grove Road\, Rotherham\, S60 2ER\, United Kingdom
CATEGORIES:Trustees
END:VEVENT
BEGIN:VEVENT
DTSTART;TZID=Europe/London:20260322T190000
DTEND;TZID=Europe/London:20260322T210000
DTSTAMP:20260425T144601
CREATED:20251129T233302Z
LAST-MODIFIED:20251129T233302Z
UID:14129-1774206000-1774213200@rotherhamscouts.org
SUMMARY:Chief Scout Award Evening
DESCRIPTION:
URL:https://rotherhamscouts.org/event/chief-scout-award-evening/
LOCATION:Rotherham United FC’s stadium\, AESSEAL New York Stadium\, New York Way\, Rotherham\, S60 1AH\, United Kingdom
CATEGORIES:Chief Scout Award Evening
END:VEVENT
END:VCALENDAR